BEGIN:VCALENDAR
PRODID:-//eluceo/ical//2.0/EN
VERSION:2.0
CALSCALE:GREGORIAN
BEGIN:VEVENT
UID:33e6647c14bc423eef14a03df910578b
DTSTAMP:20260424T124822Z
SUMMARY:Baumeister der Zukunft (Referat auf englisch)
DESCRIPTION:Webbplats: http://www.rotary-zurichflughafen.org/\nTalare: Vors
 itz: Madeleine PrévôtEinführung: Leonie Isler und Andreas IslerReferat
 : Gnanli Landrou Gründer der Firma Oxara
URL:https://rotary-zurichflughafen.org/sv/agenda/show/164034
DTSTART;TZID=Europe/Zurich:20230817T114500
DTEND;TZID=Europe/Zurich:20230817T133000
LOCATION:Hilton Zürich-Airport\, Hohenbühlstrasse 10\, 8152 Opfikon\, Sch
 weiz
CATEGORIES:Rotary
END:VEVENT
BEGIN:VTIMEZONE
TZID:Europe/Zurich
BEGIN:DAYLIGHT
DTSTART:20230817T114500
TZNAME:CEST
TZOFFSETTO:+0200
TZOFFSETFROM:+0200
END:DAYLIGHT
END:VTIMEZONE
END:VCALENDAR
