BEGIN:VCALENDAR
PRODID:-//eluceo/ical//2.0/EN
VERSION:2.0
CALSCALE:GREGORIAN
BEGIN:VEVENT
UID:ce55f0a8d82c15ada171e233eebf14a1
DTSTAMP:20260421T193037Z
SUMMARY:Stadtentwicklung und Wohnkultur
DESCRIPTION:Webbplats: http://www.rotary-zurichflughafen.org/\nTalare: Vors
 itz: Sonja ZöchlingEinführung: Ueli WydlerReferentin: Kathrin Gügler
URL:https://rotary-zurichflughafen.org/sv/agenda/show/155908
DTSTART;TZID=Europe/Zurich:20230302T114500
DTEND;TZID=Europe/Zurich:20230302T133000
LOCATION:Hilton Zürich-Airport\, Hohenbühlstrasse 10 \, 8152 Opfikon
CATEGORIES:Rotary
END:VEVENT
BEGIN:VTIMEZONE
TZID:Europe/Zurich
BEGIN:STANDARD
DTSTART:20230302T114500
TZNAME:CET
TZOFFSETTO:+0100
TZOFFSETFROM:+0100
END:STANDARD
END:VTIMEZONE
END:VCALENDAR
