BEGIN:VCALENDAR
PRODID:-//eluceo/ical//2.0/EN
VERSION:2.0
CALSCALE:GREGORIAN
BEGIN:VEVENT
UID:1e29fb22bd8430d424b8be4d33d3c28c
DTSTAMP:20260421T180428Z
SUMMARY:Medienwelt aus der Sicht des Machers
DESCRIPTION:Webbplats: http://www.rotary-zurichflughafen.org/\nTalare: Vors
 itz: Sonja Zöchling\, PräsidentinEinleitung: Ueli Wydler\, ProgrammchefR
 eferent: Oliver Steffen\, Jurnalist und Fernsehmoderator
URL:https://rotary-zurichflughafen.org/sv/agenda/show/152186
DTSTART;TZID=Europe/Zurich:20230202T114500
DTEND;TZID=Europe/Zurich:20230202T133000
LOCATION:Hilton Zürich-Airport\, Hohenbühlstrasse 10 \, 8152 Opfikon
CATEGORIES:Rotary
END:VEVENT
BEGIN:VTIMEZONE
TZID:Europe/Zurich
BEGIN:STANDARD
DTSTART:20230202T114500
TZNAME:CET
TZOFFSETTO:+0100
TZOFFSETFROM:+0100
END:STANDARD
END:VTIMEZONE
END:VCALENDAR
