BEGIN:VCALENDAR
PRODID:-//eluceo/ical//2.0/EN
VERSION:2.0
CALSCALE:GREGORIAN
BEGIN:VEVENT
UID:b44c9a16b25796f428c3d986b54a33b5
DTSTAMP:20260424T214026Z
SUMMARY:Kirche im Wandel der Zeit - ein weihnächtlicher Ausklang mit Pfr. 
 Dr.Christoph Siegrist
DESCRIPTION:Webbplats: http://www.rotary-zurichflughafen.org/\nTalare: Vors
 itz: Sonja ZöchlingReferent. Pfr. Dr. Christoph Siegrist
URL:https://rotary-zurichflughafen.org/sv/agenda/show/151134
DTSTART;TZID=Europe/Zurich:20221215T114500
DTEND;TZID=Europe/Zurich:20221215T133000
LOCATION:Hilton Zürich-Airport\, Hohenbühlstrasse 10 \, 8152 Opfikon
CATEGORIES:Rotary
END:VEVENT
BEGIN:VTIMEZONE
TZID:Europe/Zurich
BEGIN:STANDARD
DTSTART:20221215T114500
TZNAME:CET
TZOFFSETTO:+0100
TZOFFSETFROM:+0100
END:STANDARD
END:VTIMEZONE
END:VCALENDAR
