BEGIN:VCALENDAR
PRODID:-//eluceo/ical//2.0/EN
VERSION:2.0
CALSCALE:GREGORIAN
BEGIN:VEVENT
UID:d3c755cde050da2f8a3e643939701465
DTSTAMP:20260424T215159Z
SUMMARY:Erfahrungen als ExPats mit asiatischen Kulturen
DESCRIPTION:Webbplats: http://www.rotary-zurichflughafen.org/\nTalare: Vors
 itz: Sonja ZöchlingVortrag: Daniel und Jane Louise Bircher
URL:https://rotary-zurichflughafen.org/sv/agenda/show/151131
DTSTART;TZID=Europe/Zurich:20221124T114500
DTEND;TZID=Europe/Zurich:20221124T133000
LOCATION:Hilton Zürich-Airport\, Hohenbühlstrasse 10 \, 8152 Opfikon
CATEGORIES:Rotary
END:VEVENT
BEGIN:VTIMEZONE
TZID:Europe/Zurich
BEGIN:STANDARD
DTSTART:20221124T114500
TZNAME:CET
TZOFFSETTO:+0100
TZOFFSETFROM:+0100
END:STANDARD
END:VTIMEZONE
END:VCALENDAR
