BEGIN:VCALENDAR
PRODID:-//eluceo/ical//2.0/EN
VERSION:2.0
CALSCALE:GREGORIAN
BEGIN:VEVENT
UID:303c20ac7234cc0771e275db696bfac5
DTSTAMP:20260425T144004Z
SUMMARY:Schweiz und Europa - die kulturelle Auseinandersetzung
DESCRIPTION:Webbplats: http://www.rotary-zurichflughafen.org/\nTalare: Leit
 ung und Einführung: Sonja ZöchlingReferat: Dr. Walter Grete (RC ZH-Flugh
 afen)
URL:https://rotary-zurichflughafen.org/sv/agenda/show/147323
DTSTART;TZID=Europe/Zurich:20220922T114500
DTEND;TZID=Europe/Zurich:20220922T133000
LOCATION:Hilton Zürich-Airport\, Hohenbühlstrasse 10 \, 8152 Opfikon
CATEGORIES:Rotary
END:VEVENT
BEGIN:VTIMEZONE
TZID:Europe/Zurich
BEGIN:DAYLIGHT
DTSTART:20220922T114500
TZNAME:CEST
TZOFFSETTO:+0200
TZOFFSETFROM:+0200
END:DAYLIGHT
END:VTIMEZONE
END:VCALENDAR
