BEGIN:VCALENDAR
PRODID:-//eluceo/ical//2.0/EN
VERSION:2.0
CALSCALE:GREGORIAN
BEGIN:VEVENT
UID:a9c22696ed2dbdf1bec64dcaf9879f75
DTSTAMP:20260423T093346Z
SUMMARY:Kameradschaftslunch
DESCRIPTION:Website: http://www.rotary-zurichflughafen.org/
URL:https://rotary-zurichflughafen.org/nl/agenda/show/144492
DTSTART;TZID=Europe/Zurich:20220714T114500
DTEND;TZID=Europe/Zurich:20220714T133000
LOCATION:Hilton Zürich-Airport\, Hohenbühlstrasse 10 \, 8152 Opfikon
CATEGORIES:Rotary
END:VEVENT
BEGIN:VTIMEZONE
TZID:Europe/Zurich
BEGIN:DAYLIGHT
DTSTART:20220714T114500
TZNAME:CEST
TZOFFSETTO:+0200
TZOFFSETFROM:+0200
END:DAYLIGHT
END:VTIMEZONE
END:VCALENDAR
