BEGIN:VCALENDAR
PRODID:-//eluceo/ical//2.0/EN
VERSION:2.0
CALSCALE:GREGORIAN
BEGIN:VEVENT
UID:ef9136b0e96799a0c83559306798c12c
DTSTAMP:20260424T070059Z
SUMMARY:Sicherheit am Flughafen
DESCRIPTION:Site internet: http://www.rotary-zurichflughafen.org/\nConfére
 ncier(s): Vorsitz und Einführung: Sonja Zöchling
URL:https://rotary-zurichflughafen.org/fr/agenda/show/155912
DTSTART;TZID=Europe/Zurich:20230316T114500
DTEND;TZID=Europe/Zurich:20230316T133000
LOCATION:Hilton Zürich-Airport\, Hohenbühlstrasse 10 \, 8152 Opfikon
CATEGORIES:Rotary
END:VEVENT
BEGIN:VTIMEZONE
TZID:Europe/Zurich
BEGIN:STANDARD
DTSTART:20230316T114500
TZNAME:CET
TZOFFSETTO:+0100
TZOFFSETFROM:+0100
END:STANDARD
END:VTIMEZONE
END:VCALENDAR
