BEGIN:VCALENDAR
PRODID:-//eluceo/ical//2.0/EN
VERSION:2.0
CALSCALE:GREGORIAN
BEGIN:VEVENT
UID:1b1933b6f0a27fc3cbefc6c20aca5be3
DTSTAMP:20260420T132648Z
SUMMARY:Monatswanderung Juni
DESCRIPTION:Auf geschichtsträchtigen Spuren . . . . .\n\nführt uns Erich 
 vom Arenenberg zum Napoleon Turm. Auf der abwechslungsreichen Rundwanderun
 g entdeckt das aufmerksame Auge nicht nur Land und Leute\, sondern im Aufs
 tieg zum Napoleonturm auch die spannende die Geschichte der Region\, darge
 stellt auf interessanten Informationstafeln\, und auf der Aussichtsterrass
 e die kaiserliche Rundsicht von anno dazumal . . . . .\n\nEin Muss für al
 le Wanderfreunde - der Kanton Thurgau hat mehr zu bieten als Obst und Most
 !\nOrador(es): Wanderleitung: Rotarier Erich Dumelin
URL:https://rotary-zurichflughafen.org/es/agenda/show/92966
DTSTART;TZID=Europe/Zurich:20190619T000000
DTEND;TZID=Europe/Zurich:20190619T000000
LOCATION:Arenenberg
CATEGORIES:Rotary
END:VEVENT
BEGIN:VTIMEZONE
TZID:Europe/Zurich
BEGIN:DAYLIGHT
DTSTART:20190619T000000
TZNAME:CEST
TZOFFSETTO:+0200
TZOFFSETFROM:+0200
END:DAYLIGHT
END:VTIMEZONE
END:VCALENDAR
