BEGIN:VCALENDAR
PRODID:-//eluceo/ical//2.0/EN
VERSION:2.0
CALSCALE:GREGORIAN
BEGIN:VEVENT
UID:fddf5295e533ed8c3cd9a65e2f289c7b
DTSTAMP:20260420T172622Z
SUMMARY:Gemeindienstprojekt Biodiversität
DESCRIPTION:Frau Dr. Nina Richter eröffnet uns wissenschaftliche Zusammenh
 änge in der Biodiversität und zeigt deren praktische Bedeutung am Beispi
 el des landwirtschaftlichen Betriebs der Familie Möhr in der Nähe der Ky
 burg als Einstimmung für unser "hands on" Gemeindienstprojekt im Herbst.
  \nOrador(es): Dr. Nina Richner
URL:https://rotary-zurichflughafen.org/es/agenda/show/86389
DTSTART;TZID=Europe/Zurich:20180823T114500
DTEND;TZID=Europe/Zurich:20180823T133000
LOCATION:Hilton Zürich-Airport
CATEGORIES:Rotary
END:VEVENT
BEGIN:VTIMEZONE
TZID:Europe/Zurich
BEGIN:DAYLIGHT
DTSTART:20180823T114500
TZNAME:CEST
TZOFFSETTO:+0200
TZOFFSETFROM:+0200
END:DAYLIGHT
END:VTIMEZONE
END:VCALENDAR
