BEGIN:VCALENDAR
PRODID:-//eluceo/ical//2.0/EN
VERSION:2.0
CALSCALE:GREGORIAN
BEGIN:VEVENT
UID:e0290a2f5ce4e04ba8a4dd3e9f375d45
DTSTAMP:20260424T012109Z
SUMMARY:Entwicklung der Kulturstadt Winterthur
DESCRIPTION:Webseite: http://www.rotary-zurichflughafen.org/\nReferenten/in
 nen: Vorsitz: Sonja ZöcklingEinführung: Ueli WydlerReferat: Stadtpräsid
 ent Michael Künzle
URL:https://rotary-zurichflughafen.org/de/agenda/show/158654
DTSTART;TZID=Europe/Zurich:20230511T114500
DTEND;TZID=Europe/Zurich:20230511T133000
LOCATION:Hilton Zürich-Airport\, Hohenbühlstrasse 10\, 8152 Opfikon\, Sch
 weiz
CATEGORIES:Rotary
END:VEVENT
BEGIN:VTIMEZONE
TZID:Europe/Zurich
BEGIN:DAYLIGHT
DTSTART:20230511T114500
TZNAME:CEST
TZOFFSETTO:+0200
TZOFFSETFROM:+0200
END:DAYLIGHT
END:VTIMEZONE
END:VCALENDAR
