BEGIN:VCALENDAR
PRODID:-//eluceo/ical//2.0/EN
VERSION:2.0
CALSCALE:GREGORIAN
BEGIN:VEVENT
UID:008518b35de44ef02972117de4976f13
DTSTAMP:20260424T013528Z
SUMMARY:Kameradschaftslunch
DESCRIPTION:Webseite: http://www.rotary-zurichflughafen.org/\nReferenten/in
 nen: Vorsitz: Sonja Zöchling
URL:https://rotary-zurichflughafen.org/de/agenda/show/158653
DTSTART;TZID=Europe/Zurich:20230504T114500
DTEND;TZID=Europe/Zurich:20230504T114500
LOCATION:Hilton Zürich-Airport\, Hohenbühlstrasse 10\, 8152 Opfikon\, Sch
 weiz
CATEGORIES:Rotary
END:VEVENT
BEGIN:VTIMEZONE
TZID:Europe/Zurich
BEGIN:DAYLIGHT
DTSTART:20230504T114500
TZNAME:CEST
TZOFFSETTO:+0200
TZOFFSETFROM:+0200
END:DAYLIGHT
END:VTIMEZONE
END:VCALENDAR
