BEGIN:VCALENDAR
PRODID:-//eluceo/ical//2.0/EN
VERSION:2.0
CALSCALE:GREGORIAN
BEGIN:VEVENT
UID:2632a7734a4fa8698a011736ed4eeeb7
DTSTAMP:20260420T165037Z
SUMMARY:Kameradschaftslunch
DESCRIPTION:Web stranica: http://www.rotary-zurichflughafen.org/\nGovornik(
 ci): Leitung: Sonja Zöchling
URL:https://rotary-zurichflughafen.org/bs/agenda/show/147321
DTSTART;TZID=Europe/Zurich:20220915T114500
DTEND;TZID=Europe/Zurich:20220915T133000
LOCATION:Hilton Zürich-Airport\, Hohenbühlstrasse 10 \, 8152 Opfikon
CATEGORIES:Rotary
END:VEVENT
BEGIN:VTIMEZONE
TZID:Europe/Zurich
BEGIN:DAYLIGHT
DTSTART:20220915T114500
TZNAME:CEST
TZOFFSETTO:+0200
TZOFFSETFROM:+0200
END:DAYLIGHT
END:VTIMEZONE
END:VCALENDAR
